BEGIN:VCALENDAR
VERSION:2.0
PRODID:-//Claremont Fan Court School - ECPv6.15.17.1//NONSGML v1.0//EN
CALSCALE:GREGORIAN
METHOD:PUBLISH
X-WR-CALNAME:Claremont Fan Court School
X-ORIGINAL-URL:https://www.claremontfancourt.co.uk
X-WR-CALDESC:Events for Claremont Fan Court School
REFRESH-INTERVAL;VALUE=DURATION:PT1H
X-Robots-Tag:noindex
X-PUBLISHED-TTL:PT1H
BEGIN:VTIMEZONE
TZID:Europe/London
BEGIN:DAYLIGHT
TZOFFSETFROM:+0000
TZOFFSETTO:+0100
TZNAME:BST
DTSTART:20230326T010000
END:DAYLIGHT
BEGIN:STANDARD
TZOFFSETFROM:+0100
TZOFFSETTO:+0000
TZNAME:GMT
DTSTART:20231029T010000
END:STANDARD
BEGIN:DAYLIGHT
TZOFFSETFROM:+0000
TZOFFSETTO:+0100
TZNAME:BST
DTSTART:20240331T010000
END:DAYLIGHT
BEGIN:STANDARD
TZOFFSETFROM:+0100
TZOFFSETTO:+0000
TZNAME:GMT
DTSTART:20241027T010000
END:STANDARD
BEGIN:DAYLIGHT
TZOFFSETFROM:+0000
TZOFFSETTO:+0100
TZNAME:BST
DTSTART:20250330T010000
END:DAYLIGHT
BEGIN:STANDARD
TZOFFSETFROM:+0100
TZOFFSETTO:+0000
TZNAME:GMT
DTSTART:20251026T010000
END:STANDARD
END:VTIMEZONE
BEGIN:VEVENT
DTSTART;VALUE=DATE:20240311
DTEND;VALUE=DATE:20240316
DTSTAMP:20260421T092736
CREATED:20240130T100419Z
LAST-MODIFIED:20240130T100419Z
UID:16453-1710115200-1710547199@www.claremontfancourt.co.uk
SUMMARY:Senior School AI Focus Week
DESCRIPTION:
URL:https://www.claremontfancourt.co.uk/event/senior-school-ai-focus-week/
CATEGORIES:Senior School
END:VEVENT
BEGIN:VEVENT
DTSTART;TZID=Europe/London:20240313T083000
DTEND;TZID=Europe/London:20240313T160000
DTSTAMP:20260421T092736
CREATED:20231206T150242Z
LAST-MODIFIED:20231206T150242Z
UID:15788-1710318600-1710345600@www.claremontfancourt.co.uk
SUMMARY:PSHE talk
DESCRIPTION:Presenter is from the RAP project and talk will be held in the Great Room
URL:https://www.claremontfancourt.co.uk/event/pshe-talk/
CATEGORIES:Senior School
END:VEVENT
BEGIN:VEVENT
DTSTART;TZID=Europe/London:20240313T084000
DTEND;TZID=Europe/London:20240313T090000
DTSTAMP:20260421T092736
CREATED:20231206T150834Z
LAST-MODIFIED:20231206T150834Z
UID:15790-1710319200-1710320400@www.claremontfancourt.co.uk
SUMMARY:Reception parent drop in
DESCRIPTION:
URL:https://www.claremontfancourt.co.uk/event/reception-parent-drop-in-6/
CATEGORIES:Parents,Reception
END:VEVENT
BEGIN:VEVENT
DTSTART;TZID=Europe/London:20240313T130000
DTEND;TZID=Europe/London:20240313T180000
DTSTAMP:20260421T092736
CREATED:20240301T105805Z
LAST-MODIFIED:20240301T105805Z
UID:16860-1710334800-1710352800@www.claremontfancourt.co.uk
SUMMARY:Year 6 theatre trip to Peter Pan Goes Wrong\, Woking
DESCRIPTION:
URL:https://www.claremontfancourt.co.uk/event/year-6-theatre-trip-to-peter-pan-goes-wrong-woking/
CATEGORIES:Year 6
END:VEVENT
BEGIN:VEVENT
DTSTART;TZID=Europe/London:20240313T171500
DTEND;TZID=Europe/London:20240313T181500
DTSTAMP:20260421T092736
CREATED:20240308T111641Z
LAST-MODIFIED:20240308T111741Z
UID:16962-1710350100-1710353700@www.claremontfancourt.co.uk
SUMMARY:Year 9-13 Parent Event\, Deana Puccio co-founder of the RAP project
DESCRIPTION:
URL:https://www.claremontfancourt.co.uk/event/year-9-13-parent-event-deana-puccio-co-founder-of-the-rap-project/
CATEGORIES:Parents,Sixth Form,Year 10,Year 11,Year 9
END:VEVENT
BEGIN:VEVENT
DTSTART;TZID=Europe/London:20240313T180000
DTEND;TZID=Europe/London:20240313T200000
DTSTAMP:20260421T092736
CREATED:20240220T143633Z
LAST-MODIFIED:20240220T143633Z
UID:16704-1710352800-1710360000@www.claremontfancourt.co.uk
SUMMARY:Study Skills session for parents of GCSE/A level students\, JGC
DESCRIPTION:
URL:https://www.claremontfancourt.co.uk/event/study-skills-session-for-parents-of-gcse-a-level-students-jgc/
CATEGORIES:Parents,Senior School
END:VEVENT
BEGIN:VEVENT
DTSTART;TZID=Europe/London:20240313T183000
DTEND;TZID=Europe/London:20240313T203000
DTSTAMP:20260421T092736
CREATED:20240202T122200Z
LAST-MODIFIED:20240202T122200Z
UID:16526-1710354600-1710361800@www.claremontfancourt.co.uk
SUMMARY:Y4 production\, Sherlock and Cinders
DESCRIPTION:Prep School Hall
URL:https://www.claremontfancourt.co.uk/event/y4-production-sherlock-and-cinders/
CATEGORIES:Prep School,Year 4
END:VEVENT
BEGIN:VEVENT
DTSTART;TZID=Europe/London:20240313T193000
DTEND;TZID=Europe/London:20240313T213000
DTSTAMP:20260421T092736
CREATED:20240219T133341Z
LAST-MODIFIED:20240228T093227Z
UID:16656-1710358200-1710365400@www.claremontfancourt.co.uk
SUMMARY:Friends of Claremont historical talk "Claremont as a Sanctuary"\, Henry Holland
DESCRIPTION:
URL:https://www.claremontfancourt.co.uk/event/friends-of-claremont-historical-talk-claremont-as-a-sanctuary-the-victoria-room/
CATEGORIES:Parents,Whole School
END:VEVENT
END:VCALENDAR