BEGIN:VCALENDAR
VERSION:2.0
PRODID:-//Claremont Fan Court School - ECPv6.15.17.1//NONSGML v1.0//EN
CALSCALE:GREGORIAN
METHOD:PUBLISH
X-WR-CALNAME:Claremont Fan Court School
X-ORIGINAL-URL:https://www.claremontfancourt.co.uk
X-WR-CALDESC:Events for Claremont Fan Court School
REFRESH-INTERVAL;VALUE=DURATION:PT1H
X-Robots-Tag:noindex
X-PUBLISHED-TTL:PT1H
BEGIN:VTIMEZONE
TZID:Europe/London
BEGIN:DAYLIGHT
TZOFFSETFROM:+0000
TZOFFSETTO:+0100
TZNAME:BST
DTSTART:20230326T010000
END:DAYLIGHT
BEGIN:STANDARD
TZOFFSETFROM:+0100
TZOFFSETTO:+0000
TZNAME:GMT
DTSTART:20231029T010000
END:STANDARD
BEGIN:DAYLIGHT
TZOFFSETFROM:+0000
TZOFFSETTO:+0100
TZNAME:BST
DTSTART:20240331T010000
END:DAYLIGHT
BEGIN:STANDARD
TZOFFSETFROM:+0100
TZOFFSETTO:+0000
TZNAME:GMT
DTSTART:20241027T010000
END:STANDARD
BEGIN:DAYLIGHT
TZOFFSETFROM:+0000
TZOFFSETTO:+0100
TZNAME:BST
DTSTART:20250330T010000
END:DAYLIGHT
BEGIN:STANDARD
TZOFFSETFROM:+0100
TZOFFSETTO:+0000
TZNAME:GMT
DTSTART:20251026T010000
END:STANDARD
END:VTIMEZONE
BEGIN:VEVENT
DTSTART;TZID=Europe/London:20240523T084000
DTEND;TZID=Europe/London:20240523T090000
DTSTAMP:20260420T132126
CREATED:20240325T094320Z
LAST-MODIFIED:20240325T094320Z
UID:17228-1716453600-1716454800@www.claremontfancourt.co.uk
SUMMARY:Nursery class assembly for parents\, PPN hall
DESCRIPTION:
URL:https://www.claremontfancourt.co.uk/event/nursery-class-assembly-for-parents-ppn-hall/
CATEGORIES:Parents,Pre-Prep and Nursery School
END:VEVENT
BEGIN:VEVENT
DTSTART;TZID=Europe/London:20240523T100000
DTEND;TZID=Europe/London:20240523T102000
DTSTAMP:20260420T132126
CREATED:20240520T073610Z
LAST-MODIFIED:20240520T073610Z
UID:18026-1716458400-1716459600@www.claremontfancourt.co.uk
SUMMARY:Friends of Claremont Cake Sale
DESCRIPTION:
URL:https://www.claremontfancourt.co.uk/event/friends-of-claremont-cake-sale/
CATEGORIES:Prep School
END:VEVENT
BEGIN:VEVENT
DTSTART;TZID=Europe/London:20240523T190000
DTEND;TZID=Europe/London:20240523T203000
DTSTAMP:20260420T132126
CREATED:20240325T094501Z
LAST-MODIFIED:20240510T084521Z
UID:17230-1716490800-1716496200@www.claremontfancourt.co.uk
SUMMARY:Matilda performance\, JGC
DESCRIPTION:
URL:https://www.claremontfancourt.co.uk/event/matilda-performance-jgc-3/
CATEGORIES:Whole School
END:VEVENT
END:VCALENDAR