BEGIN:VCALENDAR
VERSION:2.0
PRODID:-//Claremont Fan Court School - ECPv6.15.17.1//NONSGML v1.0//EN
CALSCALE:GREGORIAN
METHOD:PUBLISH
X-WR-CALNAME:Claremont Fan Court School
X-ORIGINAL-URL:https://www.claremontfancourt.co.uk
X-WR-CALDESC:Events for Claremont Fan Court School
REFRESH-INTERVAL;VALUE=DURATION:PT1H
X-Robots-Tag:noindex
X-PUBLISHED-TTL:PT1H
BEGIN:VTIMEZONE
TZID:Europe/London
BEGIN:DAYLIGHT
TZOFFSETFROM:+0000
TZOFFSETTO:+0100
TZNAME:BST
DTSTART:20230326T010000
END:DAYLIGHT
BEGIN:STANDARD
TZOFFSETFROM:+0100
TZOFFSETTO:+0000
TZNAME:GMT
DTSTART:20231029T010000
END:STANDARD
BEGIN:DAYLIGHT
TZOFFSETFROM:+0000
TZOFFSETTO:+0100
TZNAME:BST
DTSTART:20240331T010000
END:DAYLIGHT
BEGIN:STANDARD
TZOFFSETFROM:+0100
TZOFFSETTO:+0000
TZNAME:GMT
DTSTART:20241027T010000
END:STANDARD
BEGIN:DAYLIGHT
TZOFFSETFROM:+0000
TZOFFSETTO:+0100
TZNAME:BST
DTSTART:20250330T010000
END:DAYLIGHT
BEGIN:STANDARD
TZOFFSETFROM:+0100
TZOFFSETTO:+0000
TZNAME:GMT
DTSTART:20251026T010000
END:STANDARD
END:VTIMEZONE
BEGIN:VEVENT
DTSTART;VALUE=DATE:20241213
DTEND;VALUE=DATE:20241214
DTSTAMP:20260421T160300
CREATED:20241210T094634Z
LAST-MODIFIED:20241210T094704Z
UID:19872-1734048000-1734134399@www.claremontfancourt.co.uk
SUMMARY:Extra Christmas Jumper Day
DESCRIPTION:What’s better than 1 Christmas Jumper day? Two! The Junior School can wear their Christmas jumpers on Thursday and Friday.
URL:https://www.claremontfancourt.co.uk/event/extra-christmas-jumper-day/
CATEGORIES:Pre-Prep and Nursery School,Prep School
END:VEVENT
BEGIN:VEVENT
DTSTART;TZID=Europe/London:20241213T083000
DTEND;TZID=Europe/London:20241213T090000
DTSTAMP:20260421T160300
CREATED:20241210T094746Z
LAST-MODIFIED:20241210T094804Z
UID:19874-1734078600-1734080400@www.claremontfancourt.co.uk
SUMMARY:Father Christmas visit\, Fan Court playground
DESCRIPTION:
URL:https://www.claremontfancourt.co.uk/event/father-christmas-visit/
CATEGORIES:Pre-Prep and Nursery School
END:VEVENT
END:VCALENDAR