BEGIN:VCALENDAR
VERSION:2.0
PRODID:-//Claremont Fan Court School - ECPv6.15.17.1//NONSGML v1.0//EN
CALSCALE:GREGORIAN
METHOD:PUBLISH
X-WR-CALNAME:Claremont Fan Court School
X-ORIGINAL-URL:https://www.claremontfancourt.co.uk
X-WR-CALDESC:Events for Claremont Fan Court School
REFRESH-INTERVAL;VALUE=DURATION:PT1H
X-Robots-Tag:noindex
X-PUBLISHED-TTL:PT1H
BEGIN:VTIMEZONE
TZID:Europe/London
BEGIN:DAYLIGHT
TZOFFSETFROM:+0000
TZOFFSETTO:+0100
TZNAME:BST
DTSTART:20230326T010000
END:DAYLIGHT
BEGIN:STANDARD
TZOFFSETFROM:+0100
TZOFFSETTO:+0000
TZNAME:GMT
DTSTART:20231029T010000
END:STANDARD
BEGIN:DAYLIGHT
TZOFFSETFROM:+0000
TZOFFSETTO:+0100
TZNAME:BST
DTSTART:20240331T010000
END:DAYLIGHT
BEGIN:STANDARD
TZOFFSETFROM:+0100
TZOFFSETTO:+0000
TZNAME:GMT
DTSTART:20241027T010000
END:STANDARD
BEGIN:DAYLIGHT
TZOFFSETFROM:+0000
TZOFFSETTO:+0100
TZNAME:BST
DTSTART:20250330T010000
END:DAYLIGHT
BEGIN:STANDARD
TZOFFSETFROM:+0100
TZOFFSETTO:+0000
TZNAME:GMT
DTSTART:20251026T010000
END:STANDARD
END:VTIMEZONE
BEGIN:VEVENT
DTSTART;TZID=Europe/London:20240910T173000
DTEND;TZID=Europe/London:20240910T193000
DTSTAMP:20260423T053012
CREATED:20240530T094150Z
LAST-MODIFIED:20240613T104027Z
UID:18202-1725989400-1725996600@www.claremontfancourt.co.uk
SUMMARY:Stable Court (Year 3-6) parent information evening
DESCRIPTION:
URL:https://www.claremontfancourt.co.uk/event/stable-court-year-3-6-parent-information-evening/
CATEGORIES:Prep School
END:VEVENT
BEGIN:VEVENT
DTSTART;TZID=Europe/London:20240912T080000
DTEND;TZID=Europe/London:20240912T120000
DTSTAMP:20260423T053012
CREATED:20240604T124732Z
LAST-MODIFIED:20240604T124732Z
UID:18287-1726128000-1726142400@www.claremontfancourt.co.uk
SUMMARY:Junior school (Stable Court) individual photos
DESCRIPTION:
URL:https://www.claremontfancourt.co.uk/event/junior-school-stable-court-individual-photos-2/
CATEGORIES:Prep School
END:VEVENT
BEGIN:VEVENT
DTSTART;TZID=Europe/London:20240918T090000
DTEND;TZID=Europe/London:20240918T103000
DTSTAMP:20260423T053012
CREATED:20240530T100849Z
LAST-MODIFIED:20240530T100849Z
UID:18204-1726650000-1726655400@www.claremontfancourt.co.uk
SUMMARY:Stable Court open morning
DESCRIPTION:
URL:https://www.claremontfancourt.co.uk/event/stable-court-open-morning/
CATEGORIES:Prep School
END:VEVENT
BEGIN:VEVENT
DTSTART;VALUE=DATE:20240925
DTEND;VALUE=DATE:20240926
DTSTAMP:20260423T053012
CREATED:20240709T084737Z
LAST-MODIFIED:20240709T084737Z
UID:18715-1727222400-1727308799@www.claremontfancourt.co.uk
SUMMARY:Reception - Year 6 Flu vaccinations
DESCRIPTION:
URL:https://www.claremontfancourt.co.uk/event/reception-year-6-flu-vaccinations/
CATEGORIES:Pre-Prep and Nursery School,Prep School
END:VEVENT
END:VCALENDAR