BEGIN:VCALENDAR
VERSION:2.0
PRODID:-//Claremont Fan Court School - ECPv6.15.17.1//NONSGML v1.0//EN
CALSCALE:GREGORIAN
METHOD:PUBLISH
X-WR-CALNAME:Claremont Fan Court School
X-ORIGINAL-URL:https://www.claremontfancourt.co.uk
X-WR-CALDESC:Events for Claremont Fan Court School
REFRESH-INTERVAL;VALUE=DURATION:PT1H
X-Robots-Tag:noindex
X-PUBLISHED-TTL:PT1H
BEGIN:VTIMEZONE
TZID:Europe/London
BEGIN:DAYLIGHT
TZOFFSETFROM:+0000
TZOFFSETTO:+0100
TZNAME:BST
DTSTART:20240331T010000
END:DAYLIGHT
BEGIN:STANDARD
TZOFFSETFROM:+0100
TZOFFSETTO:+0000
TZNAME:GMT
DTSTART:20241027T010000
END:STANDARD
BEGIN:DAYLIGHT
TZOFFSETFROM:+0000
TZOFFSETTO:+0100
TZNAME:BST
DTSTART:20250330T010000
END:DAYLIGHT
BEGIN:STANDARD
TZOFFSETFROM:+0100
TZOFFSETTO:+0000
TZNAME:GMT
DTSTART:20251026T010000
END:STANDARD
BEGIN:DAYLIGHT
TZOFFSETFROM:+0000
TZOFFSETTO:+0100
TZNAME:BST
DTSTART:20260329T010000
END:DAYLIGHT
BEGIN:STANDARD
TZOFFSETFROM:+0100
TZOFFSETTO:+0000
TZNAME:GMT
DTSTART:20261025T010000
END:STANDARD
END:VTIMEZONE
BEGIN:VEVENT
DTSTART;TZID=Europe/London:20250204T090000
DTEND;TZID=Europe/London:20250204T103000
DTSTAMP:20260421T094056
CREATED:20250102T134430Z
LAST-MODIFIED:20250102T134659Z
UID:20064-1738659600-1738665000@www.claremontfancourt.co.uk
SUMMARY:Fan Court open morning
DESCRIPTION:
URL:https://www.claremontfancourt.co.uk/event/fan-court-open-morning/
CATEGORIES:Public
END:VEVENT
BEGIN:VEVENT
DTSTART;TZID=Europe/London:20250205T091500
DTEND;TZID=Europe/London:20250205T103000
DTSTAMP:20260421T094056
CREATED:20241216T110133Z
LAST-MODIFIED:20241216T110522Z
UID:19968-1738746900-1738751400@www.claremontfancourt.co.uk
SUMMARY:Claremont playgroup session (Little Fir Cones)
DESCRIPTION:Location: Fan Court hall
URL:https://www.claremontfancourt.co.uk/event/claremont-playgroup-session-little-fir-cones-2025-02-05/
CATEGORIES:Public
END:VEVENT
BEGIN:VEVENT
DTSTART;TZID=Europe/London:20250207T090000
DTEND;TZID=Europe/London:20250207T110000
DTSTAMP:20260421T094056
CREATED:20250102T135537Z
LAST-MODIFIED:20250102T135537Z
UID:20072-1738918800-1738926000@www.claremontfancourt.co.uk
SUMMARY:Senior School working open morning
DESCRIPTION:Location: Dining Hall
URL:https://www.claremontfancourt.co.uk/event/senior-school-working-open-morning-20/
CATEGORIES:Public
END:VEVENT
BEGIN:VEVENT
DTSTART;TZID=Europe/London:20250212T091500
DTEND;TZID=Europe/London:20250212T103000
DTSTAMP:20260421T094056
CREATED:20241216T110133Z
LAST-MODIFIED:20241216T110522Z
UID:19969-1739351700-1739356200@www.claremontfancourt.co.uk
SUMMARY:Claremont playgroup session (Little Fir Cones)
DESCRIPTION:Location: Fan Court hall
URL:https://www.claremontfancourt.co.uk/event/claremont-playgroup-session-little-fir-cones-2025-02-12/
CATEGORIES:Public
END:VEVENT
BEGIN:VEVENT
DTSTART;TZID=Europe/London:20250226T091500
DTEND;TZID=Europe/London:20250226T103000
DTSTAMP:20260421T094056
CREATED:20250102T143200Z
LAST-MODIFIED:20250102T143200Z
UID:20104-1740561300-1740565800@www.claremontfancourt.co.uk
SUMMARY:Claremont playgroup session (Little Fir Cones)
DESCRIPTION:Location: Fan Court Hall
URL:https://www.claremontfancourt.co.uk/event/claremont-playgroup-session-little-fir-cones-2/
CATEGORIES:Public
END:VEVENT
END:VCALENDAR