BEGIN:VCALENDAR
VERSION:2.0
PRODID:-//Claremont Fan Court School - ECPv6.15.17.1//NONSGML v1.0//EN
CALSCALE:GREGORIAN
METHOD:PUBLISH
X-WR-CALNAME:Claremont Fan Court School
X-ORIGINAL-URL:https://www.claremontfancourt.co.uk
X-WR-CALDESC:Events for Claremont Fan Court School
REFRESH-INTERVAL;VALUE=DURATION:PT1H
X-Robots-Tag:noindex
X-PUBLISHED-TTL:PT1H
BEGIN:VTIMEZONE
TZID:Europe/London
BEGIN:DAYLIGHT
TZOFFSETFROM:+0000
TZOFFSETTO:+0100
TZNAME:BST
DTSTART:20240331T010000
END:DAYLIGHT
BEGIN:STANDARD
TZOFFSETFROM:+0100
TZOFFSETTO:+0000
TZNAME:GMT
DTSTART:20241027T010000
END:STANDARD
BEGIN:DAYLIGHT
TZOFFSETFROM:+0000
TZOFFSETTO:+0100
TZNAME:BST
DTSTART:20250330T010000
END:DAYLIGHT
BEGIN:STANDARD
TZOFFSETFROM:+0100
TZOFFSETTO:+0000
TZNAME:GMT
DTSTART:20251026T010000
END:STANDARD
BEGIN:DAYLIGHT
TZOFFSETFROM:+0000
TZOFFSETTO:+0100
TZNAME:BST
DTSTART:20260329T010000
END:DAYLIGHT
BEGIN:STANDARD
TZOFFSETFROM:+0100
TZOFFSETTO:+0000
TZNAME:GMT
DTSTART:20261025T010000
END:STANDARD
END:VTIMEZONE
BEGIN:VEVENT
DTSTART;VALUE=DATE:20250303
DTEND;VALUE=DATE:20250308
DTSTAMP:20260419T170321
CREATED:20250102T145105Z
LAST-MODIFIED:20250102T145105Z
UID:20114-1740960000-1741391999@www.claremontfancourt.co.uk
SUMMARY:Claremont Careers Week
DESCRIPTION:
URL:https://www.claremontfancourt.co.uk/event/claremont-careers-week/
CATEGORIES:Senior School,Sixth Form
END:VEVENT
BEGIN:VEVENT
DTSTART;VALUE=DATE:20250304
DTEND;VALUE=DATE:20250305
DTSTAMP:20260419T170321
CREATED:20250129T090614Z
LAST-MODIFIED:20250129T090614Z
UID:20471-1741046400-1741132799@www.claremontfancourt.co.uk
SUMMARY:Ducklings arrive in Reception
DESCRIPTION:Location: Fan Court reception classroom
URL:https://www.claremontfancourt.co.uk/event/ducklings-arrive-in-reception/
CATEGORIES:Reception
END:VEVENT
BEGIN:VEVENT
DTSTART;TZID=Europe/London:20250304T133000
DTEND;TZID=Europe/London:20250304T142000
DTSTAMP:20260419T170321
CREATED:20250120T101500Z
LAST-MODIFIED:20250120T101500Z
UID:20235-1741095000-1741098000@www.claremontfancourt.co.uk
SUMMARY:Aspire Talks
DESCRIPTION:
URL:https://www.claremontfancourt.co.uk/event/aspire-talks/
CATEGORIES:Year 7,Year 8
END:VEVENT
BEGIN:VEVENT
DTSTART;TZID=Europe/London:20250304T173000
DTEND;TZID=Europe/London:20250304T180000
DTSTAMP:20260419T170321
CREATED:20250120T101600Z
LAST-MODIFIED:20250120T101600Z
UID:20237-1741109400-1741111200@www.claremontfancourt.co.uk
SUMMARY:Year 5-6 Instrumental Concert
DESCRIPTION:Location: Stable Court Hall
URL:https://www.claremontfancourt.co.uk/event/year-5-6-instrumental-concert/
CATEGORIES:Parents,Year 5,Year 6
END:VEVENT
BEGIN:VEVENT
DTSTART;TZID=Europe/London:20250305T080000
DTEND;TZID=Europe/London:20250305T153000
DTSTAMP:20260419T170321
CREATED:20250129T090832Z
LAST-MODIFIED:20250129T090832Z
UID:20474-1741161600-1741188600@www.claremontfancourt.co.uk
SUMMARY:Fan Court storyteller - Kevin Graal
DESCRIPTION:Location: Fan Court hall
URL:https://www.claremontfancourt.co.uk/event/fan-court-storyteller-kevin-graal/
CATEGORIES:Pre-Prep and Nursery School
END:VEVENT
BEGIN:VEVENT
DTSTART;TZID=Europe/London:20250305T091500
DTEND;TZID=Europe/London:20250305T103000
DTSTAMP:20260419T170321
CREATED:20250102T143200Z
LAST-MODIFIED:20250102T143200Z
UID:20105-1741166100-1741170600@www.claremontfancourt.co.uk
SUMMARY:Claremont playgroup session (Little Fir Cones)
DESCRIPTION:Location: Fan Court Hall
URL:https://www.claremontfancourt.co.uk/event/claremont-playgroup-session-little-fir-cones-2-2025-03-05/
CATEGORIES:Public
END:VEVENT
BEGIN:VEVENT
DTSTART;VALUE=DATE:20250306
DTEND;VALUE=DATE:20250307
DTSTAMP:20260419T170321
CREATED:20250121T110805Z
LAST-MODIFIED:20250121T110805Z
UID:20273-1741219200-1741305599@www.claremontfancourt.co.uk
SUMMARY:World Book Day
DESCRIPTION:
URL:https://www.claremontfancourt.co.uk/event/world-book-day-2/
CATEGORIES:Whole School
END:VEVENT
BEGIN:VEVENT
DTSTART;TZID=Europe/London:20250306T090000
DTEND;TZID=Europe/London:20250306T160000
DTSTAMP:20260419T170321
CREATED:20250123T153324Z
LAST-MODIFIED:20250123T153324Z
UID:20360-1741251600-1741276800@www.claremontfancourt.co.uk
SUMMARY:Year 7 visiting author for World Book Day
DESCRIPTION:Location: Great Room
URL:https://www.claremontfancourt.co.uk/event/year-7-visiting-author-for-world-book-day/
CATEGORIES:Year 7
END:VEVENT
BEGIN:VEVENT
DTSTART;TZID=Europe/London:20250306T163000
DTEND;TZID=Europe/London:20250306T203000
DTSTAMP:20260419T170321
CREATED:20241105T133912Z
LAST-MODIFIED:20241105T133912Z
UID:19677-1741278600-1741293000@www.claremontfancourt.co.uk
SUMMARY:Year 9 parents' evening\, remote
DESCRIPTION:
URL:https://www.claremontfancourt.co.uk/event/year-9-parents-evening-remote-3/
CATEGORIES:Parents,Year 9
END:VEVENT
BEGIN:VEVENT
DTSTART;TZID=Europe/London:20250307T083000
DTEND;TZID=Europe/London:20250307T110000
DTSTAMP:20260419T170321
CREATED:20250121T110910Z
LAST-MODIFIED:20250121T110910Z
UID:20275-1741336200-1741345200@www.claremontfancourt.co.uk
SUMMARY:Year 5 current families open morning
DESCRIPTION:Location: Dining Hall
URL:https://www.claremontfancourt.co.uk/event/year-5-current-families-open-morning/
CATEGORIES:Parents,Year 5
END:VEVENT
BEGIN:VEVENT
DTSTART;VALUE=DATE:20250310
DTEND;VALUE=DATE:20250315
DTSTAMP:20260419T170321
CREATED:20250123T153423Z
LAST-MODIFIED:20250123T153423Z
UID:20362-1741564800-1741996799@www.claremontfancourt.co.uk
SUMMARY:Mental Health Awareness Week
DESCRIPTION:
URL:https://www.claremontfancourt.co.uk/event/mental-health-awareness-week-3/
CATEGORIES:Senior School,Sixth Form
END:VEVENT
BEGIN:VEVENT
DTSTART;TZID=Europe/London:20250311T084000
DTEND;TZID=Europe/London:20250311T090000
DTSTAMP:20260419T170321
CREATED:20250123T153520Z
LAST-MODIFIED:20250123T153520Z
UID:20364-1741682400-1741683600@www.claremontfancourt.co.uk
SUMMARY:Year 1 Fan Court parent drop in
DESCRIPTION:
URL:https://www.claremontfancourt.co.uk/event/year-1-fan-court-parent-drop-in/
CATEGORIES:Year 1
END:VEVENT
BEGIN:VEVENT
DTSTART;TZID=Europe/London:20250311T093000
DTEND;TZID=Europe/London:20250311T113000
DTSTAMP:20260419T170321
CREATED:20250129T091055Z
LAST-MODIFIED:20250129T091055Z
UID:20476-1741685400-1741692600@www.claremontfancourt.co.uk
SUMMARY:Year 2 tag rugby
DESCRIPTION:Location: Milbourne Lodge
URL:https://www.claremontfancourt.co.uk/event/year-2-tag-rugby/
CATEGORIES:Year 2
END:VEVENT
BEGIN:VEVENT
DTSTART;TZID=Europe/London:20250311T180000
DTEND;TZID=Europe/London:20250311T190000
DTSTAMP:20260419T170321
CREATED:20250129T091235Z
LAST-MODIFIED:20250129T091235Z
UID:20478-1741716000-1741719600@www.claremontfancourt.co.uk
SUMMARY:Senior school parent forum meeting - online
DESCRIPTION:
URL:https://www.claremontfancourt.co.uk/event/senior-school-parent-forum-meeting-online/
CATEGORIES:Senior School,Sixth Form
END:VEVENT
BEGIN:VEVENT
DTSTART;VALUE=DATE:20250312
DTEND;VALUE=DATE:20250313
DTSTAMP:20260419T170321
CREATED:20250121T110949Z
LAST-MODIFIED:20250121T110949Z
UID:20277-1741737600-1741823999@www.claremontfancourt.co.uk
SUMMARY:Year 1 trip to Milestone Museum
DESCRIPTION:
URL:https://www.claremontfancourt.co.uk/event/year-1-trip-to-milestone-museum/
CATEGORIES:Year 1
END:VEVENT
BEGIN:VEVENT
DTSTART;TZID=Europe/London:20250312T084000
DTEND;TZID=Europe/London:20250312T090000
DTSTAMP:20260419T170321
CREATED:20250123T153613Z
LAST-MODIFIED:20250123T153613Z
UID:20366-1741768800-1741770000@www.claremontfancourt.co.uk
SUMMARY:Reception Fan Court parent drop in
DESCRIPTION:
URL:https://www.claremontfancourt.co.uk/event/reception-fan-court-parent-drop-in/
CATEGORIES:Reception
END:VEVENT
BEGIN:VEVENT
DTSTART;TZID=Europe/London:20250312T090000
DTEND;TZID=Europe/London:20250312T143000
DTSTAMP:20260419T170321
CREATED:20250121T111057Z
LAST-MODIFIED:20250121T111122Z
UID:20279-1741770000-1741789800@www.claremontfancourt.co.uk
SUMMARY:Year 8 geography trip to Twickenham
DESCRIPTION:
URL:https://www.claremontfancourt.co.uk/event/year-8-geography-trip-to-twickenham/
CATEGORIES:Year 8
END:VEVENT
BEGIN:VEVENT
DTSTART;TZID=Europe/London:20250312T091500
DTEND;TZID=Europe/London:20250312T103000
DTSTAMP:20260419T170321
CREATED:20250102T143200Z
LAST-MODIFIED:20250102T143200Z
UID:20106-1741770900-1741775400@www.claremontfancourt.co.uk
SUMMARY:Claremont playgroup session (Little Fir Cones)
DESCRIPTION:Location: Fan Court Hall
URL:https://www.claremontfancourt.co.uk/event/claremont-playgroup-session-little-fir-cones-2-2025-03-12/
CATEGORIES:Public
END:VEVENT
BEGIN:VEVENT
DTSTART;TZID=Europe/London:20250313T180000
DTEND;TZID=Europe/London:20250313T190000
DTSTAMP:20260419T170321
CREATED:20250121T111233Z
LAST-MODIFIED:20250121T111233Z
UID:20282-1741888800-1741892400@www.claremontfancourt.co.uk
SUMMARY:Senior football trip parent info meeting
DESCRIPTION:
URL:https://www.claremontfancourt.co.uk/event/senior-football-trip-parent-info-meeting/
CATEGORIES:Parents,Senior School,Sixth Form
END:VEVENT
BEGIN:VEVENT
DTSTART;TZID=Europe/London:20250318T093000
DTEND;TZID=Europe/London:20250318T113000
DTSTAMP:20260419T170321
CREATED:20250129T091417Z
LAST-MODIFIED:20250129T091417Z
UID:20480-1742290200-1742297400@www.claremontfancourt.co.uk
SUMMARY:Year 1 tag rugby
DESCRIPTION:Location: Milbourne Lodge
URL:https://www.claremontfancourt.co.uk/event/year-1-tag-rugby/
CATEGORIES:Year 1
END:VEVENT
BEGIN:VEVENT
DTSTART;TZID=Europe/London:20250318T100000
DTEND;TZID=Europe/London:20250318T130000
DTSTAMP:20260419T170321
CREATED:20250121T111318Z
LAST-MODIFIED:20250121T111318Z
UID:20284-1742292000-1742302800@www.claremontfancourt.co.uk
SUMMARY:Year 8 and 9 Lacrosse Coloma Cup (hosting)
DESCRIPTION:
URL:https://www.claremontfancourt.co.uk/event/year-8-and-9-lacrosse-coloma-cup-hosting/
CATEGORIES:Year 8,Year 9
END:VEVENT
BEGIN:VEVENT
DTSTART;TZID=Europe/London:20250318T133000
DTEND;TZID=Europe/London:20250318T141500
DTSTAMP:20260419T170321
CREATED:20250121T111431Z
LAST-MODIFIED:20250121T111431Z
UID:20286-1742304600-1742307300@www.claremontfancourt.co.uk
SUMMARY:Aspire talks
DESCRIPTION:
URL:https://www.claremontfancourt.co.uk/event/aspire-talks-2/
CATEGORIES:Senior School
END:VEVENT
BEGIN:VEVENT
DTSTART;TZID=Europe/London:20250318T161000
DTEND;TZID=Europe/London:20250318T171500
DTSTAMP:20260419T170321
CREATED:20250121T111526Z
LAST-MODIFIED:20250121T111526Z
UID:20288-1742314200-1742318100@www.claremontfancourt.co.uk
SUMMARY:Whole school spring tea
DESCRIPTION:Location: Great Room
URL:https://www.claremontfancourt.co.uk/event/whole-school-spring-tea/
CATEGORIES:Parents,Whole School
END:VEVENT
BEGIN:VEVENT
DTSTART;TZID=Europe/London:20250318T170000
DTEND;TZID=Europe/London:20250318T200000
DTSTAMP:20260419T170321
CREATED:20250122T113042Z
LAST-MODIFIED:20250122T113042Z
UID:20326-1742317200-1742328000@www.claremontfancourt.co.uk
SUMMARY:Year 3 academic parents meetings (online)
DESCRIPTION:
URL:https://www.claremontfancourt.co.uk/event/year-3-academic-parents-meetings-online/
CATEGORIES:Parents,Year 3
END:VEVENT
BEGIN:VEVENT
DTSTART;VALUE=DATE:20250319
DTEND;VALUE=DATE:20250320
DTSTAMP:20260419T170321
CREATED:20250121T111559Z
LAST-MODIFIED:20250121T111559Z
UID:20290-1742342400-1742428799@www.claremontfancourt.co.uk
SUMMARY:Reception trip to Godstone Farm
DESCRIPTION:
URL:https://www.claremontfancourt.co.uk/event/reception-trip-to-godstone-farm-2/
CATEGORIES:Reception
END:VEVENT
BEGIN:VEVENT
DTSTART;TZID=Europe/London:20250319T091500
DTEND;TZID=Europe/London:20250319T103000
DTSTAMP:20260419T170321
CREATED:20250102T143200Z
LAST-MODIFIED:20250102T143200Z
UID:20107-1742375700-1742380200@www.claremontfancourt.co.uk
SUMMARY:Claremont playgroup session (Little Fir Cones)
DESCRIPTION:Location: Fan Court Hall
URL:https://www.claremontfancourt.co.uk/event/claremont-playgroup-session-little-fir-cones-2-2025-03-19/
CATEGORIES:Public
END:VEVENT
BEGIN:VEVENT
DTSTART;TZID=Europe/London:20250319T163000
DTEND;TZID=Europe/London:20250319T180000
DTSTAMP:20260419T170321
CREATED:20250121T111646Z
LAST-MODIFIED:20250121T111646Z
UID:20292-1742401800-1742407200@www.claremontfancourt.co.uk
SUMMARY:Year 7 Poetry by Heart competition
DESCRIPTION:Location: Great Room
URL:https://www.claremontfancourt.co.uk/event/year-7-poetry-by-heart-competition/
CATEGORIES:Parents,Year 7
END:VEVENT
BEGIN:VEVENT
DTSTART;TZID=Europe/London:20250319T183000
DTEND;TZID=Europe/London:20250319T193000
DTSTAMP:20260419T170321
CREATED:20250121T112025Z
LAST-MODIFIED:20250121T112059Z
UID:20294-1742409000-1742412600@www.claremontfancourt.co.uk
SUMMARY:Year 4 drama production
DESCRIPTION:Location: Stable Court Hall
URL:https://www.claremontfancourt.co.uk/event/year-4-drama-production/
CATEGORIES:Parents,Year 4
END:VEVENT
BEGIN:VEVENT
DTSTART;VALUE=DATE:20250320
DTEND;VALUE=DATE:20250321
DTSTAMP:20260419T170321
CREATED:20250123T153833Z
LAST-MODIFIED:20250123T153833Z
UID:20368-1742428800-1742515199@www.claremontfancourt.co.uk
SUMMARY:Shakespeare Festival - Twelfth Night
DESCRIPTION:The Exchange in Twickenham
URL:https://www.claremontfancourt.co.uk/event/shakespeare-festival-twelfth-night/
CATEGORIES:Year 9
END:VEVENT
BEGIN:VEVENT
DTSTART;TZID=Europe/London:20250320T120000
DTEND;TZID=Europe/London:20250320T130000
DTSTAMP:20260419T170321
CREATED:20250122T113300Z
LAST-MODIFIED:20250122T113300Z
UID:20328-1742472000-1742475600@www.claremontfancourt.co.uk
SUMMARY:Stable Court Sports Photos
DESCRIPTION:
URL:https://www.claremontfancourt.co.uk/event/stable-court-sports-photos/
CATEGORIES:Parents,Prep School
END:VEVENT
BEGIN:VEVENT
DTSTART;TZID=Europe/London:20250320T160000
DTEND;TZID=Europe/London:20250320T200000
DTSTAMP:20260419T170321
CREATED:20250122T113758Z
LAST-MODIFIED:20250122T113758Z
UID:20335-1742486400-1742500800@www.claremontfancourt.co.uk
SUMMARY:Year 3 academic parents meetings (online)
DESCRIPTION:
URL:https://www.claremontfancourt.co.uk/event/year-3-academic-parents-meetings-online-2/
CATEGORIES:Parents,Year 3
END:VEVENT
BEGIN:VEVENT
DTSTART;TZID=Europe/London:20250320T183000
DTEND;TZID=Europe/London:20250320T193000
DTSTAMP:20260419T170321
CREATED:20250121T144941Z
LAST-MODIFIED:20250121T145042Z
UID:20303-1742495400-1742499000@www.claremontfancourt.co.uk
SUMMARY:Year 4 drama production
DESCRIPTION:Location: Stable Court Hall
URL:https://www.claremontfancourt.co.uk/event/year-4-drama-production-2/
CATEGORIES:Parents,Year 4
END:VEVENT
BEGIN:VEVENT
DTSTART;TZID=Europe/London:20250321T085000
DTEND;TZID=Europe/London:20250321T093000
DTSTAMP:20260419T170321
CREATED:20250123T153951Z
LAST-MODIFIED:20250123T153951Z
UID:20370-1742547000-1742549400@www.claremontfancourt.co.uk
SUMMARY:Hedgehogs class assembly
DESCRIPTION:Location: Fan Court Hall
URL:https://www.claremontfancourt.co.uk/event/hedgehogs-class-assembly/
CATEGORIES:Reception
END:VEVENT
BEGIN:VEVENT
DTSTART;TZID=Europe/London:20250321T090000
DTEND;TZID=Europe/London:20250321T170000
DTSTAMP:20260419T170321
CREATED:20250123T154057Z
LAST-MODIFIED:20250123T154057Z
UID:20372-1742547600-1742576400@www.claremontfancourt.co.uk
SUMMARY:Year 12 social science conference trip
DESCRIPTION:Location: The Light Auditorium in London
URL:https://www.claremontfancourt.co.uk/event/year-12-social-science-conference-trip/
CATEGORIES:Sixth Form
END:VEVENT
BEGIN:VEVENT
DTSTART;TZID=Europe/London:20250321T134500
DTEND;TZID=Europe/London:20250321T174500
DTSTAMP:20260419T170321
CREATED:20250121T145151Z
LAST-MODIFIED:20250121T145151Z
UID:20305-1742564700-1742579100@www.claremontfancourt.co.uk
SUMMARY:Year 7 and 8 trip to The Snow Centre in Hemmel Hemstead
DESCRIPTION:
URL:https://www.claremontfancourt.co.uk/event/year-7-and-8-trip-to-the-snow-centre-in-hemmel-hemstead/
CATEGORIES:Year 7,Year 8
END:VEVENT
BEGIN:VEVENT
DTSTART;TZID=Europe/London:20250324T083000
DTEND;TZID=Europe/London:20250324T120000
DTSTAMP:20260419T170321
CREATED:20250122T113912Z
LAST-MODIFIED:20250122T113912Z
UID:20337-1742805000-1742817600@www.claremontfancourt.co.uk
SUMMARY:Year 5 entrance assessments
DESCRIPTION:
URL:https://www.claremontfancourt.co.uk/event/year-5-entrance-assessments/
CATEGORIES:Year 5
END:VEVENT
BEGIN:VEVENT
DTSTART;VALUE=DATE:20250325
DTEND;VALUE=DATE:20250326
DTSTAMP:20260419T170321
CREATED:20250121T145400Z
LAST-MODIFIED:20250121T145400Z
UID:20307-1742860800-1742947199@www.claremontfancourt.co.uk
SUMMARY:Year 13 A level sociology trip to Westfields London
DESCRIPTION:
URL:https://www.claremontfancourt.co.uk/event/year-13-a-level-sociology-trip-to-westfields-london/
CATEGORIES:Sixth Form
END:VEVENT
BEGIN:VEVENT
DTSTART;TZID=Europe/London:20250325T120000
DTEND;TZID=Europe/London:20250325T170000
DTSTAMP:20260419T170321
CREATED:20250123T160021Z
LAST-MODIFIED:20250123T160021Z
UID:20374-1742904000-1742922000@www.claremontfancourt.co.uk
SUMMARY:Year 12 UCAS conference trip
DESCRIPTION:Location: London Excel Docklands
URL:https://www.claremontfancourt.co.uk/event/year-12-ucas-conference-trip/
CATEGORIES:Sixth Form
END:VEVENT
BEGIN:VEVENT
DTSTART;TZID=Europe/London:20250325T173000
DTEND;TZID=Europe/London:20250325T181500
DTSTAMP:20260419T170321
CREATED:20250121T145606Z
LAST-MODIFIED:20250121T145606Z
UID:20309-1742923800-1742926500@www.claremontfancourt.co.uk
SUMMARY:Year 3 and 4 instrumental concert
DESCRIPTION:Location: Stable Court Hall
URL:https://www.claremontfancourt.co.uk/event/year-3-and-4-instrumental-concert/
CATEGORIES:Parents,Year 3,Year 4
END:VEVENT
BEGIN:VEVENT
DTSTART;TZID=Europe/London:20250326T091500
DTEND;TZID=Europe/London:20250326T103000
DTSTAMP:20260419T170321
CREATED:20250102T143200Z
LAST-MODIFIED:20250102T143200Z
UID:20108-1742980500-1742985000@www.claremontfancourt.co.uk
SUMMARY:Claremont playgroup session (Little Fir Cones)
DESCRIPTION:Location: Fan Court Hall
URL:https://www.claremontfancourt.co.uk/event/claremont-playgroup-session-little-fir-cones-2-2025-03-26/
CATEGORIES:Public
END:VEVENT
BEGIN:VEVENT
DTSTART;TZID=Europe/London:20250326T170000
DTEND;TZID=Europe/London:20250326T200000
DTSTAMP:20260419T170321
CREATED:20250123T160628Z
LAST-MODIFIED:20250123T160628Z
UID:20378-1743008400-1743019200@www.claremontfancourt.co.uk
SUMMARY:Year 4 academic parents meetings (online)
DESCRIPTION:
URL:https://www.claremontfancourt.co.uk/event/year-4-academic-parents-meetings-online/
CATEGORIES:Parents,Year 4
END:VEVENT
BEGIN:VEVENT
DTSTART;TZID=Europe/London:20250326T173000
DTEND;TZID=Europe/London:20250326T180000
DTSTAMP:20260419T170321
CREATED:20250123T160507Z
LAST-MODIFIED:20250123T160507Z
UID:20376-1743010200-1743012000@www.claremontfancourt.co.uk
SUMMARY:Years 3 and 4 instrumental concert
DESCRIPTION:Location: Stable Court Hall
URL:https://www.claremontfancourt.co.uk/event/years-3-and-4-instrumental-concert/
CATEGORIES:Year 3,Year 4
END:VEVENT
BEGIN:VEVENT
DTSTART;TZID=Europe/London:20250326T180000
DTEND;TZID=Europe/London:20250326T190000
DTSTAMP:20260419T170321
CREATED:20250121T145852Z
LAST-MODIFIED:20250121T145852Z
UID:20311-1743012000-1743015600@www.claremontfancourt.co.uk
SUMMARY:Florida lacrosse tour parent info evening
DESCRIPTION:Location: Great Room
URL:https://www.claremontfancourt.co.uk/event/florida-lacrosse-tour-parent-info-evening/
CATEGORIES:Parents,Senior School,Sixth Form
END:VEVENT
BEGIN:VEVENT
DTSTART;VALUE=DATE:20250327
DTEND;VALUE=DATE:20250328
DTSTAMP:20260419T170321
CREATED:20250121T145939Z
LAST-MODIFIED:20250121T145939Z
UID:20313-1743033600-1743119999@www.claremontfancourt.co.uk
SUMMARY:Year 3 trip to Legoland
DESCRIPTION:
URL:https://www.claremontfancourt.co.uk/event/year-3-trip-to-legoland-3/
CATEGORIES:Year 3
END:VEVENT
BEGIN:VEVENT
DTSTART;TZID=Europe/London:20250327T120000
DTEND;TZID=Europe/London:20250327T130000
DTSTAMP:20260419T170321
CREATED:20250122T113618Z
LAST-MODIFIED:20250122T113618Z
UID:20331-1743076800-1743080400@www.claremontfancourt.co.uk
SUMMARY:Stable Court Sports Photos
DESCRIPTION:
URL:https://www.claremontfancourt.co.uk/event/stable-court-sports-photos-2/
CATEGORIES:Prep School
END:VEVENT
BEGIN:VEVENT
DTSTART;TZID=Europe/London:20250327T120000
DTEND;TZID=Europe/London:20250327T170000
DTSTAMP:20260419T170321
CREATED:20250123T161140Z
LAST-MODIFIED:20250127T135047Z
UID:20380-1743076800-1743094800@www.claremontfancourt.co.uk
SUMMARY:Year 5 theatre trip to The Lion\, The Witch and the Wardrobe
DESCRIPTION:Location: Woking Theatre
URL:https://www.claremontfancourt.co.uk/event/year-5-theatre-trip-to-the-lion-the-witch-and-the-wardrobe/
CATEGORIES:Year 5
END:VEVENT
BEGIN:VEVENT
DTSTART;TZID=Europe/London:20250327T120000
DTEND;TZID=Europe/London:20250327T190000
DTSTAMP:20260419T170321
CREATED:20250123T161311Z
LAST-MODIFIED:20250123T161311Z
UID:20382-1743076800-1743102000@www.claremontfancourt.co.uk
SUMMARY:Year 7 theatre trip to Back to the Future
DESCRIPTION:Location: Adelphi Theatre\, London
URL:https://www.claremontfancourt.co.uk/event/year-7-theatre-trip-to-back-to-the-future/
CATEGORIES:Year 7
END:VEVENT
BEGIN:VEVENT
DTSTART;TZID=Europe/London:20250327T160000
DTEND;TZID=Europe/London:20250327T200000
DTSTAMP:20260419T170321
CREATED:20250123T161410Z
LAST-MODIFIED:20250123T161410Z
UID:20384-1743091200-1743105600@www.claremontfancourt.co.uk
SUMMARY:Year 4 academic parents meetings (online)
DESCRIPTION:
URL:https://www.claremontfancourt.co.uk/event/year-4-academic-parents-meetings-online-2/
END:VEVENT
BEGIN:VEVENT
DTSTART;VALUE=DATE:20250328
DTEND;VALUE=DATE:20250329
DTSTAMP:20260419T170321
CREATED:20250123T161454Z
LAST-MODIFIED:20250123T161454Z
UID:20386-1743120000-1743206399@www.claremontfancourt.co.uk
SUMMARY:Friends of Claremont Cake Sale for Fan Court
DESCRIPTION:
URL:https://www.claremontfancourt.co.uk/event/friends-of-claremont-cake-sale-for-fan-court/
CATEGORIES:Pre-Prep and Nursery School
END:VEVENT
BEGIN:VEVENT
DTSTART;VALUE=DATE:20250328
DTEND;VALUE=DATE:20250329
DTSTAMP:20260419T170321
CREATED:20250123T161620Z
LAST-MODIFIED:20250123T161620Z
UID:20388-1743120000-1743206399@www.claremontfancourt.co.uk
SUMMARY:Rosslyn Park Rugby 7's U11
DESCRIPTION:
URL:https://www.claremontfancourt.co.uk/event/rosslyn-park-rugby-7s-u11/
CATEGORIES:Year 5,Year 6
END:VEVENT
BEGIN:VEVENT
DTSTART;VALUE=DATE:20250331
DTEND;VALUE=DATE:20250401
DTSTAMP:20260419T170321
CREATED:20250123T161659Z
LAST-MODIFIED:20250123T161659Z
UID:20390-1743379200-1743465599@www.claremontfancourt.co.uk
SUMMARY:Senior School sports team photos
DESCRIPTION:
URL:https://www.claremontfancourt.co.uk/event/senior-school-sports-team-photos-3/
CATEGORIES:Senior School,Sixth Form
END:VEVENT
END:VCALENDAR